BEGIN:VCALENDAR
VERSION:2.0
PRODID:-//Spolok slovenských lekárov v Bratislave - ECPv6.15.20//NONSGML v1.0//EN
CALSCALE:GREGORIAN
METHOD:PUBLISH
X-WR-CALNAME:Spolok slovenských lekárov v Bratislave
X-ORIGINAL-URL:https://www.sslba.sk
X-WR-CALDESC:Events for Spolok slovenských lekárov v Bratislave
REFRESH-INTERVAL;VALUE=DURATION:PT1H
X-Robots-Tag:noindex
X-PUBLISHED-TTL:PT1H
BEGIN:VTIMEZONE
TZID:Europe/Helsinki
BEGIN:DAYLIGHT
TZOFFSETFROM:+0200
TZOFFSETTO:+0300
TZNAME:EEST
DTSTART:20230326T010000
END:DAYLIGHT
BEGIN:STANDARD
TZOFFSETFROM:+0300
TZOFFSETTO:+0200
TZNAME:EET
DTSTART:20231029T010000
END:STANDARD
BEGIN:DAYLIGHT
TZOFFSETFROM:+0200
TZOFFSETTO:+0300
TZNAME:EEST
DTSTART:20240331T010000
END:DAYLIGHT
BEGIN:STANDARD
TZOFFSETFROM:+0300
TZOFFSETTO:+0200
TZNAME:EET
DTSTART:20241027T010000
END:STANDARD
BEGIN:DAYLIGHT
TZOFFSETFROM:+0200
TZOFFSETTO:+0300
TZNAME:EEST
DTSTART:20250330T010000
END:DAYLIGHT
BEGIN:STANDARD
TZOFFSETFROM:+0300
TZOFFSETTO:+0200
TZNAME:EET
DTSTART:20251026T010000
END:STANDARD
BEGIN:DAYLIGHT
TZOFFSETFROM:+0200
TZOFFSETTO:+0300
TZNAME:EEST
DTSTART:20260329T010000
END:DAYLIGHT
BEGIN:STANDARD
TZOFFSETFROM:+0300
TZOFFSETTO:+0200
TZNAME:EET
DTSTART:20261025T010000
END:STANDARD
END:VTIMEZONE
BEGIN:VEVENT
DTSTART;TZID=Europe/Helsinki:20251208T170000
DTEND;TZID=Europe/Helsinki:20251208T170000
DTSTAMP:20260420T135600
CREATED:20250918T195340Z
LAST-MODIFIED:20250918T195340Z
UID:595-1765213200-1765213200@www.sslba.sk
SUMMARY:Patologickoanatomická konferencia
DESCRIPTION:Predsedá: prof.MUDr. P.Babál\,CSc.
URL:https://www.sslba.sk/odborny-vecer/patologickoanatomicka-konferencia-2/
LOCATION:Malá poslucháreň NTÚ LF UK\, Sasinkova 4\, Bratislava\, 81108\, Slovakia (Slovak Republic)
ORGANIZER;CN="Spolok slovensk%C3%BDch lek%C3%A1rov v Bratislave":MAILTO:info@sslba.sk
END:VEVENT
BEGIN:VEVENT
DTSTART;TZID=Europe/Helsinki:20251201T170000
DTEND;TZID=Europe/Helsinki:20251201T170000
DTSTAMP:20260420T135600
CREATED:20250918T195311Z
LAST-MODIFIED:20250918T195311Z
UID:593-1764608400-1764608400@www.sslba.sk
SUMMARY:Večer I.internej kliniky LF UK a UNB na tému: Ochorenia venózneho systému
DESCRIPTION:Predsedá: doc.MUDr.S.Kiňová\,PhD. \n\nGašpar Ľ.\, Murín J.\, Bulas J.\, Vestenická V.: Artériová hypertenzia a riziko cievnej mozgovej príhody.\nČelovská D.: Chronická žilová choroba – hlboká žilová trombóza a posttrombotický syndróm: prepojenia v klinickej praxi\nŠtvrtinová V.: Choroby žíl dolných končatín – predstavenie knihy
URL:https://www.sslba.sk/odborny-vecer/vecer-i-internej-kliniky-lf-uk-a-unb-na-temu-ochorenia-venozneho-systemu/
LOCATION:Malá poslucháreň NTÚ LF UK\, Sasinkova 4\, Bratislava\, 81108\, Slovakia (Slovak Republic)
ORGANIZER;CN="Spolok slovensk%C3%BDch lek%C3%A1rov v Bratislave":MAILTO:info@sslba.sk
END:VEVENT
BEGIN:VEVENT
DTSTART;TZID=Europe/Helsinki:20251124T170000
DTEND;TZID=Europe/Helsinki:20251124T170000
DTSTAMP:20260420T135600
CREATED:20250918T195234Z
LAST-MODIFIED:20250918T195234Z
UID:591-1764003600-1764003600@www.sslba.sk
SUMMARY:Večer Spolku lékařu českých z Prahy
DESCRIPTION:Predsedá: prof.MUDr.M.Kršek\, DrSc.\,MBA \n\nPafko P.: Karcinom plic v ČR a SR\nKráliková E.: Léčba závislosti na tabáku v ČR a SR\nPlutinský M.: CHOPN – novinky\, epidemiologie a léčba v ČR a SR
URL:https://www.sslba.sk/odborny-vecer/vecer-spolku-lekaru-ceskych-z-prahy-2/
LOCATION:Malá poslucháreň NTÚ LF UK\, Sasinkova 4\, Bratislava\, 81108\, Slovakia (Slovak Republic)
ORGANIZER;CN="Spolok slovensk%C3%BDch lek%C3%A1rov v Bratislave":MAILTO:info@sslba.sk
END:VEVENT
BEGIN:VEVENT
DTSTART;TZID=Europe/Helsinki:20251103T170000
DTEND;TZID=Europe/Helsinki:20251103T170000
DTSTAMP:20260420T135600
CREATED:20250918T195107Z
LAST-MODIFIED:20250918T195107Z
UID:588-1762189200-1762189200@www.sslba.sk
SUMMARY:Večer Kliniky hematológie a transfuziológie LF UK a UNB
DESCRIPTION:Predsedá: prof.MUDr.A.Bátorová\,CSc. \n\nSninská Z.\, Farkaš F.\, Lukáš J.: Koncept fixnej dĺžky liečby pri CLL.\nŠkubová I.\, Harvanová Ľ.\, Labská V.: Inovatívna liečba v hemato-onkológii: Nové možnosti a perspektívy liečby mnohopočetného myelómu.\nSopko L.\, Gálffy B.\, Žiaková B.\, Martišová M.\, Bojtárová E.\, Stemnická D.\, Martinka J.\, Lukáš J.: DLI – možnosti ovplyvnenia ochorenia po alogénnej transplantácii – skúsenosti pracoviska.
URL:https://www.sslba.sk/odborny-vecer/vecer-kliniky-hematologie-a-transfuziologie-lf-uk-a-unb/
LOCATION:Malá poslucháreň NTÚ LF UK\, Sasinkova 4\, Bratislava\, 81108\, Slovakia (Slovak Republic)
ORGANIZER;CN="Spolok slovensk%C3%BDch lek%C3%A1rov v Bratislave":MAILTO:info@sslba.sk
END:VEVENT
BEGIN:VEVENT
DTSTART;TZID=Europe/Helsinki:20251027T170000
DTEND;TZID=Europe/Helsinki:20251027T170000
DTSTAMP:20260420T135600
CREATED:20250918T195015Z
LAST-MODIFIED:20250918T195015Z
UID:586-1761584400-1761584400@www.sslba.sk
SUMMARY:Večer Ústavu lekárskej biológie\, genetiky a klinickej genetiky LF UK a UNB
DESCRIPTION:Predsedá: doc.RNDr. Ľ.Danišovič\, PhD. \n\nHarsányi Š.: Genetické aspekty vývojovej dysplázie bedrových kĺbov a moderné možnosti ich diagnostiky.\nČulenová M.: Modifikácia povrchov bioskafoldov za účelom zvýšenia ich interakcie s bunkami.\nKuniaková M.: Decelularizácia tkanív a orgánov a jej význam pre substitučnú medicínu.
URL:https://www.sslba.sk/odborny-vecer/vecer-ustavu-lekarskej-biologie-genetiky-a-klinickej-genetiky-lf-uk-a-unb/
LOCATION:Malá poslucháreň NTÚ LF UK\, Sasinkova 4\, Bratislava\, 81108\, Slovakia (Slovak Republic)
ORGANIZER;CN="Spolok slovensk%C3%BDch lek%C3%A1rov v Bratislave":MAILTO:info@sslba.sk
END:VEVENT
BEGIN:VEVENT
DTSTART;TZID=Europe/Helsinki:20251020T170000
DTEND;TZID=Europe/Helsinki:20251020T170000
DTSTAMP:20260420T135600
CREATED:20250918T194928Z
LAST-MODIFIED:20250918T194928Z
UID:584-1760979600-1760979600@www.sslba.sk
SUMMARY:Večer Kliniky detskej chirurgie LF UK a NÚDCH
DESCRIPTION:Predsedá: doc.MUDr.J.Babala\,PhD \n\nŠinka P.\, Béder I.\, Smrek M.\, Babala J.: ARLS provider – súhrn z kurzu\nMedvecká D.\, Števková D.\, Murár E.\, Babala J.: PIRS – aktuálne vyhodnotenie metodiky na KDCH LF UK a NÚDCH
URL:https://www.sslba.sk/odborny-vecer/vecer-kliniky-detskej-chirurgie-lf-uk-a-nudch-2/
LOCATION:Malá poslucháreň NTÚ LF UK\, Sasinkova 4\, Bratislava\, 81108\, Slovakia (Slovak Republic)
ORGANIZER;CN="Spolok slovensk%C3%BDch lek%C3%A1rov v Bratislave":MAILTO:info@sslba.sk
END:VEVENT
BEGIN:VEVENT
DTSTART;TZID=Europe/Helsinki:20251013T170000
DTEND;TZID=Europe/Helsinki:20251013T170000
DTSTAMP:20260420T135600
CREATED:20250918T194848Z
LAST-MODIFIED:20250918T194848Z
UID:582-1760374800-1760374800@www.sslba.sk
SUMMARY:Večer I. ortopedicko -traumatologickej kliniky LF UK a UNB na tému: Robotika v ortopédii
DESCRIPTION:Predsedá: MUDr.Andrej Švec\, PhD.\, MPH \n\nTóth Z.\, Orava R.\, Švec A.: Použitie robotického systemu ROSA v klinickej praxi\nBožík M.\, Bibza M.\, Beňuška J.\, Horváth J.\, Švec A.: Single position OLIF s využitím robotického navigovaného systemu.\nBibza M.\, Božík M.\, Švec A.\, Šteňo B.: Roboticky asistovaná implantácia pedikulárnych skrutiek v lateralnej polohe: technika\, pracovný postup a naše skúsenosti.
URL:https://www.sslba.sk/odborny-vecer/vecer-i-ortopedicko-traumatologickej-kliniky-lf-uk-a-unb-na-temu-robotika-v-ortopedii/
LOCATION:Malá poslucháreň NTÚ LF UK\, Sasinkova 4\, Bratislava\, 81108\, Slovakia (Slovak Republic)
ORGANIZER;CN="Spolok slovensk%C3%BDch lek%C3%A1rov v Bratislave":MAILTO:info@sslba.sk
END:VEVENT
BEGIN:VEVENT
DTSTART;TZID=Europe/Helsinki:20251006T170000
DTEND;TZID=Europe/Helsinki:20251006T170000
DTSTAMP:20260420T135600
CREATED:20250918T194742Z
LAST-MODIFIED:20250918T194742Z
UID:579-1759770000-1759770000@www.sslba.sk
SUMMARY:Večer Kliniky pneumológie a ftizeológie LF UK a UNB
DESCRIPTION:Predsedá: MUDr.M.Hájková\,CSc.\,MPH\, \n\nMajer I.: Z histórie česko-slovenskej bronchológie\nSándor F.: Doplnkové metódy endosonografickej mediastinálnej a hilovej lymfadenopatie\nBakešová L.: Navigovaná ultratenká bronchoskopia – výzvy a ciele\nŠtrbová Z.: Pľúcna arteriovenózna malformácia\, respiračná insuficiencia a tehotenstvo
URL:https://www.sslba.sk/odborny-vecer/vecer-kliniky-pneumologie-a-ftizeologie-lf-uk-a-unb/
LOCATION:Malá poslucháreň NTÚ LF UK\, Sasinkova 4\, Bratislava\, 81108\, Slovakia (Slovak Republic)
ORGANIZER;CN="Spolok slovensk%C3%BDch lek%C3%A1rov v Bratislave":MAILTO:info@sslba.sk
END:VEVENT
BEGIN:VEVENT
DTSTART;TZID=Europe/Helsinki:20250609T170000
DTEND;TZID=Europe/Helsinki:20250609T170000
DTSTAMP:20260420T135600
CREATED:20250328T020807Z
LAST-MODIFIED:20250328T020807Z
UID:571-1749488400-1749488400@www.sslba.sk
SUMMARY:Večer Slovenskej spoločnosti klinickej biochémie
DESCRIPTION:Predsedá: doc. Ing. P.Blažíček\, PhD. \n\nKováč G.: Aktuálne problémy laboratórnej diagnostiky v internej\, chirurgii a “malých odboroch”.\nBlažíček P.: Pohľad klinického biochemika na zdravú stravu a možnosti jej monitorovania\nPenesová A.: Obezita je rizikovým faktorom mnohých ochorení. Ktoré choroby sú najrozšírenejšie v súvislosti s obezitou?\nBlažíček P.: Interferencia liekov a nutričných doplnkov – nebezpečenstvo skreslenia laboratórnych výsledkov.
URL:https://www.sslba.sk/odborny-vecer/vecer-slovenskej-spolocnosti-klinickej-biochemie/
LOCATION:Malá poslucháreň NTÚ LF UK\, Sasinkova 4\, Bratislava\, 81108\, Slovakia (Slovak Republic)
ORGANIZER;CN="Spolok slovensk%C3%BDch lek%C3%A1rov v Bratislave":MAILTO:info@sslba.sk
END:VEVENT
BEGIN:VEVENT
DTSTART;TZID=Europe/Helsinki:20250602T170000
DTEND;TZID=Europe/Helsinki:20250602T170000
DTSTAMP:20260420T135600
CREATED:20250328T020700Z
LAST-MODIFIED:20250328T020700Z
UID:569-1748883600-1748883600@www.sslba.sk
SUMMARY:Večer Imunologického ústavu LF UK
DESCRIPTION:Predsedá: doc.MUDr.M.Bucová\,CSc. \n\nBucová M.\, Ďurmanová V.\, Zsemlye E.\, Klučková K.\, Kozák J.\, Šteňo J.\, Hunákova Ľ.\, Lietava J.: Úloha Klothoproteínu v imunite\, zápale a patogenéze chorôb.\nHunáková L. et al.: Asociácia sympato-vagálnej nerovnováhy s karcinómom močového mechúra\nĎurmanová V. et al.: Molekula HLA-G v patogenéze nádorov močového mechúra.\nSuchánková M et al.: CD44 a jeho úloha v patogenéze difúznych parenchýmových pľúcnych chorôb.
URL:https://www.sslba.sk/odborny-vecer/vecer-imunologickeho-ustavu-lf-uk/
LOCATION:Malá poslucháreň NTÚ LF UK\, Sasinkova 4\, Bratislava\, 81108\, Slovakia (Slovak Republic)
ORGANIZER;CN="Spolok slovensk%C3%BDch lek%C3%A1rov v Bratislave":MAILTO:info@sslba.sk
END:VEVENT
BEGIN:VEVENT
DTSTART;TZID=Europe/Helsinki:20250526T170000
DTEND;TZID=Europe/Helsinki:20250526T170000
DTSTAMP:20260420T135600
CREATED:20250328T020632Z
LAST-MODIFIED:20250328T020632Z
UID:567-1748278800-1748278800@www.sslba.sk
SUMMARY:Večer Ústavu epidemiológie LF UK
DESCRIPTION:Predsedá: prof.MUDr.A.Bražinová\, PhD.\, MPH. \n\nFulová M.\, Perželová J.\, Kotrbancová M.: Výskyt legionelových infekcií v Slovenskej republike\nBražinová A.\, Gába P.\, Belák A.: Využívanie všeobecnej zdravotnej starostlivosti obyvateľmi marginalizovaných rómskych komunít v porovnaní s väčšinovou populáciou\nGába P.\, Mračková T.\, Bražinová A.: Výskyt vybraných sexuálne a krvou prenosných ochorení v slovenskej populácii – skríning v ambulanciách všeobecných lekárov pre dospelých.\nNováková D.\, Fulová M.\, Kotrbancová M.\, Perželová J.\, Bražinová A.: Vzťah medzi biologickou a psychologickou imunitou.
URL:https://www.sslba.sk/odborny-vecer/vecer-ustavu-epidemiologie-lf-uk/
LOCATION:Malá poslucháreň NTÚ LF UK\, Sasinkova 4\, Bratislava\, 81108\, Slovakia (Slovak Republic)
ORGANIZER;CN="Spolok slovensk%C3%BDch lek%C3%A1rov v Bratislave":MAILTO:info@sslba.sk
END:VEVENT
BEGIN:VEVENT
DTSTART;TZID=Europe/Helsinki:20250519T170000
DTEND;TZID=Europe/Helsinki:20250519T170000
DTSTAMP:20260420T135600
CREATED:20250328T020556Z
LAST-MODIFIED:20250328T020556Z
UID:565-1747674000-1747674000@www.sslba.sk
SUMMARY:Večer Kliniky plastickej\, rekonštrukčnej a estetickej chirurgie LF UK a UNB
DESCRIPTION:Predsedá: MUDr.D.Palenčár\, PhD. \n\nMitevová D.: Gynekomastia\, pseudogynekomastia a karcinóm prsníka u mužov\nJaššová B.: 22q11.2 mikrodelécia\nHic D.: Onkoplastické výkony v chirurgii prsníka\nMarsal D.: Dupuytrenova kontraktúra\nPalenčár D.: NAM – najmodernejšia príprava rázštepového pacienta
URL:https://www.sslba.sk/odborny-vecer/vecer-kliniky-plastickej-rekonstrukcnej-a-estetickej-chirurgie-lf-uk-a-unb/
LOCATION:Malá poslucháreň NTÚ LF UK\, Sasinkova 4\, Bratislava\, 81108\, Slovakia (Slovak Republic)
ORGANIZER;CN="Spolok slovensk%C3%BDch lek%C3%A1rov v Bratislave":MAILTO:info@sslba.sk
END:VEVENT
BEGIN:VEVENT
DTSTART;TZID=Europe/Helsinki:20250512T170000
DTEND;TZID=Europe/Helsinki:20250512T170000
DTSTAMP:20260420T135600
CREATED:20250328T020524Z
LAST-MODIFIED:20250328T020524Z
UID:563-1747069200-1747069200@www.sslba.sk
SUMMARY:Večer Ústavu súdneho lekárstva LF UK
DESCRIPTION:Predsedá: prof.MUDr.J.Šidlo\,CSc.\, MPH\, FIALM \n\nMikulášová D.\, Mikuláš Ľ.\, Szoradová A.\, Kuruc R.\, Nižnanský Ľ.\, Šidlo J.: Výskyt samovrážd v najohrozenejších vekových skupinách\nMoravanský N.\, Thurzo A.\, Kováč P.: Interdisciplinárne forenzné postupy a ich podiel na úspešnej identifikácii ľudského jedinca\nŠidlo J.\, Mikulášová D.\, Szóradová A.\, Kuruc R.: Analýza príčin smrti v pitvaných prípadoch seniorov
URL:https://www.sslba.sk/odborny-vecer/vecer-ustavu-sudneho-lekarstva-lf-uk-2/
LOCATION:Malá poslucháreň NTÚ LF UK\, Sasinkova 4\, Bratislava\, 81108\, Slovakia (Slovak Republic)
ORGANIZER;CN="Spolok slovensk%C3%BDch lek%C3%A1rov v Bratislave":MAILTO:info@sslba.sk
END:VEVENT
BEGIN:VEVENT
DTSTART;TZID=Europe/Helsinki:20250505T170000
DTEND;TZID=Europe/Helsinki:20250505T170000
DTSTAMP:20260420T135600
CREATED:20250328T020049Z
LAST-MODIFIED:20250328T020844Z
UID:561-1746464400-1746464400@www.sslba.sk
SUMMARY:Večer Ústavu hygieny LF UK
DESCRIPTION:Predsedá: prof.MUDr. Ľ.Argalášová\, PhD.\, MPH \n\nArgalášová Ľ.\, Babjaková J.\, Hirošová K.\, Samohýl M.\, Soldán M.\, Vondrová D.\, Wrba T.\, Mayer-Vargová K.\, Matejáková L.\, Hadvinová L.\, Jurkovičová J.: Implementácia inovatívnych pedagogických prístupov v predmete hygiena pre efektívnejšiu prípravu budúcich lekárov.\nSoldán M.\, Babjaková J.\, Hadvinová L.\, Jurkovičová J.\, Argalášová Ľ.: Strava a črevná mikrobiota: Kľúč k prevencii chronických ochorení ?\nMatejáková L.\, Horn F.\, Štefánková E.\, Auxtová E.\, Argalášová Ľ.: Význam hodnotenia rizikových faktorov u pacientov s kraniosynostózou.
URL:https://www.sslba.sk/odborny-vecer/vecer-ustavu-hygieny-lf-uk/
LOCATION:Malá poslucháreň NTÚ LF UK\, Sasinkova 4\, Bratislava\, 81108\, Slovakia (Slovak Republic)
ORGANIZER;CN="Spolok slovensk%C3%BDch lek%C3%A1rov v Bratislave":MAILTO:info@sslba.sk
END:VEVENT
BEGIN:VEVENT
DTSTART;TZID=Europe/Helsinki:20250428T170000
DTEND;TZID=Europe/Helsinki:20250428T170000
DTSTAMP:20260420T135600
CREATED:20250328T020020Z
LAST-MODIFIED:20250328T020908Z
UID:559-1745859600-1745859600@www.sslba.sk
SUMMARY:Patologickoanatomická konferencia
DESCRIPTION:Predsedá: prof.MUDr. P.Babál\, CSc.
URL:https://www.sslba.sk/odborny-vecer/patologickoanatomicka-konferencia/
LOCATION:Malá poslucháreň NTÚ LF UK\, Sasinkova 4\, Bratislava\, 81108\, Slovakia (Slovak Republic)
ORGANIZER;CN="Spolok slovensk%C3%BDch lek%C3%A1rov v Bratislave":MAILTO:info@sslba.sk
END:VEVENT
BEGIN:VEVENT
DTSTART;TZID=Europe/Helsinki:20250414T170000
DTEND;TZID=Europe/Helsinki:20250414T170000
DTSTAMP:20260420T135600
CREATED:20250328T015946Z
LAST-MODIFIED:20250328T020924Z
UID:557-1744650000-1744650000@www.sslba.sk
SUMMARY:Večer Ústavu farmakológie a klinickej farmakológie LF UK
DESCRIPTION:Predsedá: prof. MUDr.M.Wawruch\, PhD. \n\nLaššanová M.: Farmakoterapia astmy bronchiale počas tehotenstva\nTisoňová J.: Súčasné pohľady na vitamínovú suplementáciu v kardiovaskulárnej prevencii.\nVojtko R.: Zmeny reaktivity a.renalis potkana vyvolané dlhodobou intoxikáciou tetrachlórmetánom.
URL:https://www.sslba.sk/odborny-vecer/vecer-ustavu-farmakologie-a-klinickej-farmakologie-lf-uk/
LOCATION:Malá poslucháreň NTÚ LF UK\, Sasinkova 4\, Bratislava\, 81108\, Slovakia (Slovak Republic)
ORGANIZER;CN="Spolok slovensk%C3%BDch lek%C3%A1rov v Bratislave":MAILTO:info@sslba.sk
END:VEVENT
BEGIN:VEVENT
DTSTART;TZID=Europe/Helsinki:20250407T170000
DTEND;TZID=Europe/Helsinki:20250407T170000
DTSTAMP:20260420T135600
CREATED:20250328T015808Z
LAST-MODIFIED:20250328T020945Z
UID:554-1744045200-1744045200@www.sslba.sk
SUMMARY:Večer Neurochirurgickej kliniky LF UK
DESCRIPTION:Predsedá: doc.MUDr.A.Šteňo\, PhD\, MPH \n\nToma D.: Intradurálne extramedulárne nádory: potenciálny prínos intraoperačnej sonografie\nOndrušová P.: Problematika epilepsie z pohľadu neurochirurga – vybrané kazuistiky\nŠteňo A.: Normálne a patologické cievne štruktúry mozgu v ultrazvukovom obraze – aké je chirurgické využitie ?\nBuvala J.: Adenómy/PitNETy hypofýzy – čo prináša nová klasifikácia ?
URL:https://www.sslba.sk/odborny-vecer/vecer-neurochirurgickej-kliniky-lf-uk/
LOCATION:Malá poslucháreň NTÚ LF UK\, Sasinkova 4\, Bratislava\, 81108\, Slovakia (Slovak Republic)
ORGANIZER;CN="Spolok slovensk%C3%BDch lek%C3%A1rov v Bratislave":MAILTO:info@sslba.sk
END:VEVENT
BEGIN:VEVENT
DTSTART;TZID=Europe/Helsinki:20250331T170000
DTEND;TZID=Europe/Helsinki:20250331T170000
DTSTAMP:20260420T135600
CREATED:20250110T184500Z
LAST-MODIFIED:20250110T184500Z
UID:550-1743440400-1743440400@www.sslba.sk
SUMMARY:Večer II. chirurgickej kliniky LF UK a UNB
DESCRIPTION:Predsedá: doc. MUDr. A. Prochotský\, CSc. \n\nNemček M.\, Levčík P.\, Prochotský A.: Atypický zdroj alimentárneho ilea – novoročná kapustnica\nMutiso D.\, Prochotský A.\, Daniel I.: Damage Control Surgery v liečbe masívnej polytraumy\nProchotský A.: Optimálne chirurgické riešenie najčastejších komplikácií intestinálnych stómií\nDudáš V.\, Prochotský A.\, Dickson M.\, Levčík P.: Ileus po IPOM pre recidivujúcu herniu v jazve po apendektómii
URL:https://www.sslba.sk/odborny-vecer/vecer-ii-chirurgickej-kliniky-lf-uk-a-unb/
LOCATION:Malá poslucháreň NTÚ LF UK\, Sasinkova 4\, Bratislava\, 81108\, Slovakia (Slovak Republic)
ORGANIZER;CN="Spolok slovensk%C3%BDch lek%C3%A1rov v Bratislave":MAILTO:info@sslba.sk
END:VEVENT
BEGIN:VEVENT
DTSTART;TZID=Europe/Helsinki:20250324T170000
DTEND;TZID=Europe/Helsinki:20250324T170000
DTSTAMP:20260420T135600
CREATED:20250110T184355Z
LAST-MODIFIED:20250110T184355Z
UID:548-1742835600-1742835600@www.sslba.sk
SUMMARY:Večer Detskej otorinolaryngologickej kliniky LF UK a NÚDCH
DESCRIPTION:Predsedá: MUDr. I. Golierová\, PhD. \n\nNiková N.\, Mészároš P.\, Legiň M.\, Goljerová I.: Laryngomalácia: diagnostika a liečba\nJančovič A.\, Borcherding J.\, Goljerová I.: Ankyloglossia: frenulotómia a frenuloplastika\nGoljerová I.\, Homolová M.: Orbitálne komplikácie akútnej rinosinusitídy u pediatrických pacientov\nMészároš P.\, Jančovič A.\, Janík M.\, Goljerová I.: Závažný prípad juvenilnej papilomatózy v hrtane a DDO
URL:https://www.sslba.sk/odborny-vecer/vecer-detskej-otorinolaryngologickej-kliniky-lf-uk-a-nudch/
LOCATION:Malá poslucháreň NTÚ LF UK\, Sasinkova 4\, Bratislava\, 81108\, Slovakia (Slovak Republic)
ORGANIZER;CN="Spolok slovensk%C3%BDch lek%C3%A1rov v Bratislave":MAILTO:info@sslba.sk
END:VEVENT
BEGIN:VEVENT
DTSTART;TZID=Europe/Helsinki:20250317T170000
DTEND;TZID=Europe/Helsinki:20250317T170000
DTSTAMP:20260420T135600
CREATED:20250110T184316Z
LAST-MODIFIED:20250110T184316Z
UID:546-1742230800-1742230800@www.sslba.sk
SUMMARY:Večer Urologickej kliniky LF UK a UNB
DESCRIPTION:Predsedá: doc. MUDr. S. Žiaran\, PhD.\, MPH\, FEBU. \n\nŽiaran S.: Karcinóm močového mechúra\, dg. a liečba\nMalek C.: Včasná rehabilitácia po derivácii moču (ERAS)\nBujdák P.: Karcinóm prostaty\nTrebatický B.: Striktúry uretry
URL:https://www.sslba.sk/odborny-vecer/vecer-urologickej-kliniky-lf-uk-a-unb/
LOCATION:Malá poslucháreň NTÚ LF UK\, Sasinkova 4\, Bratislava\, 81108\, Slovakia (Slovak Republic)
ORGANIZER;CN="Spolok slovensk%C3%BDch lek%C3%A1rov v Bratislave":MAILTO:info@sslba.sk
END:VEVENT
BEGIN:VEVENT
DTSTART;TZID=Europe/Helsinki:20250310T170000
DTEND;TZID=Europe/Helsinki:20250310T170000
DTSTAMP:20260420T135600
CREATED:20250110T184236Z
LAST-MODIFIED:20250110T184236Z
UID:544-1741626000-1741626000@www.sslba.sk
SUMMARY:Večer Kliniky otorinolaryngológie a chirurgie hlavy a krku LF UK a UNB
DESCRIPTION:Predsedá: doc. MUDr. M. Tedla\, PhD.\, MPH. \n\nJavorská Z.: Extraezofageálny reflux v patogenéze ochorení horných dýchacích orgánov\nKorim Ž.: Interdisciplinárny prístup k diagnostike a liečbe ochorení hrtana: aktuálne trendy a perspektívy\nVarga L.: Otogenetika\, alebo kam miznú idiopatické poruchy sluchu\nBabinec M.\, Liška M.: Endoskopická transnazálna chirurgia hypofýzy
URL:https://www.sslba.sk/odborny-vecer/vecer-kliniky-otorinolaryngologie-a-chirurgie-hlavy-a-krku-lf-uk-a-unb/
LOCATION:Malá poslucháreň NTÚ LF UK\, Sasinkova 4\, Bratislava\, 81108\, Slovakia (Slovak Republic)
ORGANIZER;CN="Spolok slovensk%C3%BDch lek%C3%A1rov v Bratislave":MAILTO:info@sslba.sk
END:VEVENT
BEGIN:VEVENT
DTSTART;TZID=Europe/Helsinki:20250303T170000
DTEND;TZID=Europe/Helsinki:20250303T170000
DTSTAMP:20260420T135600
CREATED:20250110T184129Z
LAST-MODIFIED:20250110T184129Z
UID:542-1741021200-1741021200@www.sslba.sk
SUMMARY:Večer II. onkologickej kliniky LF UK a NOÚ
DESCRIPTION:Predsedá: prof. MUDr. M. Mego\, DrSc. \n\nSkripeková A.: Integrácia paliatívnej starostlivosti do onkologickej liečby\nDurdiaková S.: Vybrané biomarkery neurogenézy pri nádoroch pankreasu\nEscherová E.: Biologický a klinický význam teratómov v onkológii\nLesko P.: Low dose nivolumab pri vyšších líniách liečby urotelových nádorov\nOrszágová Z.: Neskorá toxicita pri nádoroch z germinatívnych buniek
URL:https://www.sslba.sk/odborny-vecer/vecer-ii-onkologickej-kliniky-lf-uk-a-nou/
LOCATION:Malá poslucháreň NTÚ LF UK\, Sasinkova 4\, Bratislava\, 81108\, Slovakia (Slovak Republic)
ORGANIZER;CN="Spolok slovensk%C3%BDch lek%C3%A1rov v Bratislave":MAILTO:info@sslba.sk
END:VEVENT
BEGIN:VEVENT
DTSTART;TZID=Europe/Helsinki:20250217T170000
DTEND;TZID=Europe/Helsinki:20250217T170000
DTSTAMP:20260420T135600
CREATED:20250110T184021Z
LAST-MODIFIED:20250110T184021Z
UID:540-1739811600-1739811600@www.sslba.sk
SUMMARY:Večer Ústavu sociálneho lekárstva a lekárskej etiky LF UK
DESCRIPTION:Predsedá: doc. MUDr. M. Kostičová\, PhD.\, MPH. \n\nGogola M.\, Ozorovský V.: Genéza a kontinuita. Niekoľko poznámok k dejinám medicíny na LF UK a k takmer prvému profesorovi tohto odboru na Slovensku\nKostičová M.\, Konareva E.: Za zdravím na ulici. Sociálne determinanty zdravia ľudí bez domova\nKolesárová M.: Postoje medikov k použitiu umelej inteligencie v medicíne
URL:https://www.sslba.sk/odborny-vecer/vecer-ustavu-socialneho-lekarstva-a-lekarskej-etiky-lf-uk/
LOCATION:Malá poslucháreň NTÚ LF UK\, Sasinkova 4\, Bratislava\, 81108\, Slovakia (Slovak Republic)
ORGANIZER;CN="Spolok slovensk%C3%BDch lek%C3%A1rov v Bratislave":MAILTO:info@sslba.sk
END:VEVENT
BEGIN:VEVENT
DTSTART;TZID=Europe/Helsinki:20250210T170000
DTEND;TZID=Europe/Helsinki:20250210T170000
DTSTAMP:20260420T135600
CREATED:20250110T183932Z
LAST-MODIFIED:20250110T183932Z
UID:538-1739206800-1739206800@www.sslba.sk
SUMMARY:Večer III. internej kliniky LF UK a UNB
DESCRIPTION:Predsedá: doc. MUDr. M. Szántová\, PhD. \n\nSzántová M.: Hereditárna hemochromatóza v zmysle nových EASL odporúčaní\nĎurkovičová Z.: PEG-PEJ: naše skúsenosti z praxe\nGlevická M.: Aktuality v manažmente anafylaxie\nKomlósi M.: Autonómna dysregulácia pri Morbus Parkinson
URL:https://www.sslba.sk/odborny-vecer/vecer-iii-internej-kliniky-lf-uk-a-unb/
LOCATION:Malá poslucháreň NTÚ LF UK\, Sasinkova 4\, Bratislava\, 81108\, Slovakia (Slovak Republic)
ORGANIZER;CN="Spolok slovensk%C3%BDch lek%C3%A1rov v Bratislave":MAILTO:info@sslba.sk
END:VEVENT
BEGIN:VEVENT
DTSTART;TZID=Europe/Helsinki:20250203T170000
DTEND;TZID=Europe/Helsinki:20250203T170000
DTSTAMP:20260420T135600
CREATED:20250110T183849Z
LAST-MODIFIED:20250110T183849Z
UID:536-1738602000-1738602000@www.sslba.sk
SUMMARY:Večer Kliniky detskej chirurgie LF UK a NÚDCH
DESCRIPTION:Predsedá: doc. MUDr. J. Babala\, PhD. \n\nMedvecká D.\, Števková D.\, Murár E.\, Schmidlová V.\, Pechanová R.\, Babala J.:\nOperácia hernie u detí metódou PIRS na KDCH LF UK v NÚDCH\nNothart M.\, Omaník P.\, Valentík P.\, Schmidtová V.\, Kabát M.\, Nosáľ M.\, Babala J.:\nNaše skúsenosti s kongenitálnymi defektami sterna\nBabala J.\, Zahradníková P.\, Smrek M.\, Pechanová R.\, Béder I.:\nSlovenský register chirurgických VVCH za roky 2023 a 2024
URL:https://www.sslba.sk/odborny-vecer/vecer-kliniky-detskej-chirurgie-lf-uk-a-nudch/
LOCATION:Malá poslucháreň NTÚ LF UK\, Sasinkova 4\, Bratislava\, 81108\, Slovakia (Slovak Republic)
ORGANIZER;CN="Spolok slovensk%C3%BDch lek%C3%A1rov v Bratislave":MAILTO:info@sslba.sk
END:VEVENT
BEGIN:VEVENT
DTSTART;TZID=Europe/Helsinki:20250127T170000
DTEND;TZID=Europe/Helsinki:20250127T170000
DTSTAMP:20260420T135600
CREATED:20250110T183751Z
LAST-MODIFIED:20250110T183751Z
UID:534-1737997200-1737997200@www.sslba.sk
SUMMARY:Večer I. chirurgickej kliniky LF UK a UNB
DESCRIPTION:Predsedá: doc. MUDr. M. Čambal\, PhD.\, MHA\, MPH. \n\nVrtík L.\, Bolgáčová A.\, Zemanová M.: História cievnej chirurgie v Štátnej nemocnici\, FN Bratislava a Univerzitnej nemocnici Bratislava\nBolgáčová A.\, Vrtík L.\, Hrbatý B.\, Zemanová M.: Uzáver a. a v. mesenterica superior – naše skúsenosti\nHrbatý B.\, Gajarová N.\, Satko I.\, Reis R.\, Škoda A.\, Šimo J.: Krvácanie z dolnej časti GIT – aktuálne odporúčania vs naše možnosti\nReis R.\, Gajarová N.\, Lukáč Ľ.\, Chabroň M.\, Čambal M.: Manažment pacienta s gastrointestinálnym krvácaním – algoritmus v Nemocnici Staré Mesto\nPashaev A.\, Paigham S.: ERAS protocol\nZemanová M.\, Čambal M.\, Hrbatý B.\, Škoda A.\, Vrtík L.: Význam výživy v liečbe chronických rán
URL:https://www.sslba.sk/odborny-vecer/vecer-i-chirurgickej-kliniky-lf-uk-a-unb/
LOCATION:Malá poslucháreň NTÚ LF UK\, Sasinkova 4\, Bratislava\, 81108\, Slovakia (Slovak Republic)
ORGANIZER;CN="Spolok slovensk%C3%BDch lek%C3%A1rov v Bratislave":MAILTO:info@sslba.sk
END:VEVENT
BEGIN:VEVENT
DTSTART;TZID=Europe/Helsinki:20250120T170000
DTEND;TZID=Europe/Helsinki:20250120T170000
DTSTAMP:20260420T135600
CREATED:20250110T183639Z
LAST-MODIFIED:20250110T183639Z
UID:532-1737392400-1737392400@www.sslba.sk
SUMMARY:Večer Detskej kliniky anestéziológie a intenzívnej medicíny NÚDCH
DESCRIPTION:Predsedá: prof. MUDr. T. Šagát\, CSc. \n\nKöppl J.: Vaping – Induced Acute Lung Injury\nNedomová B.: Anestézia u detí s neuromuskulárnymi ochoreniami\nŠagát T.\, Riedel R.\, Nedomová B.\, Köppl J.: Niektoré problémy pediatrickej intenzívnej medicíny
URL:https://www.sslba.sk/odborny-vecer/vecer-detskej-kliniky-anesteziologie-a-intenzivnej-mediciny-nudch/
LOCATION:Malá poslucháreň NTÚ LF UK\, Sasinkova 4\, Bratislava\, 81108\, Slovakia (Slovak Republic)
ORGANIZER;CN="Spolok slovensk%C3%BDch lek%C3%A1rov v Bratislave":MAILTO:info@sslba.sk
END:VEVENT
BEGIN:VEVENT
DTSTART;TZID=Europe/Helsinki:20250113T170000
DTEND;TZID=Europe/Helsinki:20250113T170000
DTSTAMP:20260420T135600
CREATED:20250110T183555Z
LAST-MODIFIED:20250110T183555Z
UID:529-1736787600-1736787600@www.sslba.sk
SUMMARY:Večer Sekcie dedičných metabolických porúch SSKB
DESCRIPTION:Predsedá: doc. MUDr. V. Bzdúch\, CSc. \n\nSchenková K.\, Tárnoková S.\, Brennerová K.\, Bzdúch V.\, Šaligová J.\, Šalingová A.\, Prídavok M.\, Lászlová K.\, Górová R.\, Lisyová J.\, Petrovič R.\, Šebová C.: Sú dedičné metabolické poruchy len problém pediatrov?\nBrennerová K.\, Ďurina P.\, Bohuniczký K.\, Okáľová M.\, Juhosová M.\, Pietrzyková M.\, Kolníková M.\, Bzdúch V.: Cerebrotendinózna xantomatóza u detí\nBzdúch V.\, Górová R.\, Brennerová K.\, Šalingová A.\, Šebová C.\, Hrčková G.: Primárny deficit karnitínu
URL:https://www.sslba.sk/odborny-vecer/vecer-sekcie-dedicnych-metabolickych-poruch-sskb-2/
LOCATION:Malá poslucháreň NTÚ LF UK\, Sasinkova 4\, Bratislava\, 81108\, Slovakia (Slovak Republic)
ORGANIZER;CN="Spolok slovensk%C3%BDch lek%C3%A1rov v Bratislave":MAILTO:info@sslba.sk
END:VEVENT
BEGIN:VEVENT
DTSTART;TZID=Europe/Helsinki:20241209T170000
DTEND;TZID=Europe/Helsinki:20241209T170000
DTSTAMP:20260420T135600
CREATED:20240729T211616Z
LAST-MODIFIED:20240729T211616Z
UID:522-1733763600-1733763600@www.sslba.sk
SUMMARY:Klinicko-patologickoanatomická konferencia
DESCRIPTION:Predsedá: prof..MUDr. P.Babál\, CSc.
URL:https://www.sslba.sk/odborny-vecer/klinicko-patologickoanatomicka-konferencia-4/
LOCATION:Malá poslucháreň NTÚ LF UK\, Sasinkova 4\, Bratislava\, 81108\, Slovakia (Slovak Republic)
ORGANIZER;CN="Spolok slovensk%C3%BDch lek%C3%A1rov v Bratislave":MAILTO:info@sslba.sk
END:VEVENT
BEGIN:VEVENT
DTSTART;TZID=Europe/Helsinki:20241202T170000
DTEND;TZID=Europe/Helsinki:20241202T170000
DTSTAMP:20260420T135600
CREATED:20240729T211549Z
LAST-MODIFIED:20240729T211549Z
UID:520-1733158800-1733158800@www.sslba.sk
SUMMARY:Večer Kliniky angiológie LFUK a NÚSCH
DESCRIPTION:Predsedá: doc.MUDr.J.Maďarič\, PhD\, MPH \n\nMaďarič J.: Renálna sympatiková denervácia ako doplnková terapia pre pacientov s nedostatočne kontrolovanou arteriálnou hypertenziou.\nFľak Ľ: Možnosti endovaskulárnej liečby kritickej končatinovej ischémie.\nVincze L. Potreba komplexného manažmentu pacientov s aneuryzmou brušnej aorty.\nMohamad M.S\, Dišeková M. Môj pacient roka – klinická kazuistika.
URL:https://www.sslba.sk/odborny-vecer/vecer-kliniky-angiologie-lfuk-a-nusch/
LOCATION:Malá poslucháreň NTÚ LF UK\, Sasinkova 4\, Bratislava\, 81108\, Slovakia (Slovak Republic)
ORGANIZER;CN="Spolok slovensk%C3%BDch lek%C3%A1rov v Bratislave":MAILTO:info@sslba.sk
END:VEVENT
END:VCALENDAR