BEGIN:VCALENDAR
VERSION:2.0
PRODID:-//Spolok slovenských lekárov v Bratislave - ECPv6.15.20//NONSGML v1.0//EN
CALSCALE:GREGORIAN
METHOD:PUBLISH
X-WR-CALNAME:Spolok slovenských lekárov v Bratislave
X-ORIGINAL-URL:https://www.sslba.sk
X-WR-CALDESC:Events for Spolok slovenských lekárov v Bratislave
REFRESH-INTERVAL;VALUE=DURATION:PT1H
X-Robots-Tag:noindex
X-PUBLISHED-TTL:PT1H
BEGIN:VTIMEZONE
TZID:Europe/Helsinki
BEGIN:DAYLIGHT
TZOFFSETFROM:+0200
TZOFFSETTO:+0300
TZNAME:EEST
DTSTART:20230326T010000
END:DAYLIGHT
BEGIN:STANDARD
TZOFFSETFROM:+0300
TZOFFSETTO:+0200
TZNAME:EET
DTSTART:20231029T010000
END:STANDARD
BEGIN:DAYLIGHT
TZOFFSETFROM:+0200
TZOFFSETTO:+0300
TZNAME:EEST
DTSTART:20240331T010000
END:DAYLIGHT
BEGIN:STANDARD
TZOFFSETFROM:+0300
TZOFFSETTO:+0200
TZNAME:EET
DTSTART:20241027T010000
END:STANDARD
BEGIN:DAYLIGHT
TZOFFSETFROM:+0200
TZOFFSETTO:+0300
TZNAME:EEST
DTSTART:20250330T010000
END:DAYLIGHT
BEGIN:STANDARD
TZOFFSETFROM:+0300
TZOFFSETTO:+0200
TZNAME:EET
DTSTART:20251026T010000
END:STANDARD
END:VTIMEZONE
BEGIN:VEVENT
DTSTART;TZID=Europe/Helsinki:20240408T170000
DTEND;TZID=Europe/Helsinki:20240408T170000
DTSTAMP:20260420T151402
CREATED:20240324T213749Z
LAST-MODIFIED:20240324T213749Z
UID:471-1712595600-1712595600@www.sslba.sk
SUMMARY:Večer Ortopedickej kliniky LFUK a NÚDCH
DESCRIPTION:Predsedá: prof.MUDr.M.Kokavec\, PhD.\,MPH. \n\nKokavec M.: 20 rokov od založenia Ortopedickej kliniky LFUK a NÚDCH\nFrištáková M.: Deformity detskej nohy a ich liečba\nLiščák B.\, Bevilaqua J.: Pokroky v diagnostike a liečbe skolióz\nRendek P.\, Králik D.: Problematika osteotómii v oblasti panvy a dolných končatín\nHalás M.\, Kubíčková P.: Artroskopia v detskom veku\nDoležal T.: Ošetrenie patologických zlomenín u detí
URL:https://www.sslba.sk/odborny-vecer/vecer-ortopedickej-kliniky-lfuk-a-nudch/
LOCATION:Malá poslucháreň NTÚ LF UK\, Sasinkova 4\, Bratislava\, 81108\, Slovakia (Slovak Republic)
ORGANIZER;CN="Spolok slovensk%C3%BDch lek%C3%A1rov v Bratislave":MAILTO:info@sslba.sk
END:VEVENT
BEGIN:VEVENT
DTSTART;TZID=Europe/Helsinki:20240415T170000
DTEND;TZID=Europe/Helsinki:20240415T170000
DTSTAMP:20260420T151402
CREATED:20240324T213846Z
LAST-MODIFIED:20240324T213846Z
UID:473-1713200400-1713200400@www.sslba.sk
SUMMARY:Večer Kliniky pneumológie a ftizeológie LFUK a UNB
DESCRIPTION:Predsedá: MUDr.M.Hájková\, CSc.\, MPH \n\nMajer I.: Skríning karcinómu pľúc – stále aktuálny problém\nTedlová E.: Difúzne cystické lézie pľúc\nŠtrbová Z.: Intrapleurálna fibrinolytická liečba pri komplikovanom parapneumonickom výpotku – aktuálne odporúčania a naše skúsenosti
URL:https://www.sslba.sk/odborny-vecer/vecer-kliniky-pneumologie-a-ftizeologie-lfuk-a-unb-2/
LOCATION:Malá poslucháreň NTÚ LF UK\, Sasinkova 4\, Bratislava\, 81108\, Slovakia (Slovak Republic)
ORGANIZER;CN="Spolok slovensk%C3%BDch lek%C3%A1rov v Bratislave":MAILTO:info@sslba.sk
END:VEVENT
BEGIN:VEVENT
DTSTART;TZID=Europe/Helsinki:20240422T170000
DTEND;TZID=Europe/Helsinki:20240422T170000
DTSTAMP:20260420T151402
CREATED:20240324T213951Z
LAST-MODIFIED:20240324T213951Z
UID:475-1713805200-1713805200@www.sslba.sk
SUMMARY:Večer Kliniky chirurgickej onkológie SZU a NOÚ
DESCRIPTION:Predsedajú: prof.MUDr.D.Pinďák\,PhD a prof.MUDr.J.Pechan\,CSc \n\nRovenská E.\, Kokavec S.\, Aziri D.\, Pechan J.: Chirurgická liečba maligného melanómu\nNovotná N.\, Karaba M.\, Benca J.\, Šimo J.\, Rusnáková D.\, Pavlendová J.: Chirurgická liečba karcinómu prsníka po neoadjuvancii\nDubovan P.\, Tomáš M.\, Dolník J.\, Duchoň R.\, Pinďák D.: Chirurgická liečba karcinómu pankreasu\nJurík M.\, Šucha R.\, Bernadič M.\, Kula D.: Chirurgická liečba sarkómov
URL:https://www.sslba.sk/odborny-vecer/vecer-kliniky-chirurgickej-onkologie-szu-a-nou/
LOCATION:Malá poslucháreň NTÚ LF UK\, Sasinkova 4\, Bratislava\, 81108\, Slovakia (Slovak Republic)
ORGANIZER;CN="Spolok slovensk%C3%BDch lek%C3%A1rov v Bratislave":MAILTO:info@sslba.sk
END:VEVENT
BEGIN:VEVENT
DTSTART;TZID=Europe/Helsinki:20240429T170000
DTEND;TZID=Europe/Helsinki:20240429T170000
DTSTAMP:20260420T151402
CREATED:20240324T214059Z
LAST-MODIFIED:20240324T214059Z
UID:477-1714410000-1714410000@www.sslba.sk
SUMMARY:Večer Neonatologickej kliniky  intenzívnej medicíny LFUK a NÚDCH
DESCRIPTION:Predsedá: prof. MUDr. I. Brucknerová\, PhD. \n\nDoboš D.\, Bibza J.\, Babala J.\, Dolníková D.\, Brucknerová I.: Novorodenec s atypickou príčinou črevnej obštrukcie\nBabincová N.\, Dolníková D.\, Letenayová I.\, Brucknerová I.: X-viazaná myotubulárna myopatia u novorodenca.\nSkokňová M.\, Letenayová I.\, Dolníková D.\, Brucknerová I.: Novorodenecký skríning\nLetenayová I.\, Dolníková D.\, Brucknerová I.: Podpora zdravého štartu do života – Prečo potrebujeme nové pravidlá pre banky ľudského mlieka
URL:https://www.sslba.sk/odborny-vecer/vecer-neonatologickej-kliniky-intenzivnej-mediciny-lfuk-a-nudch/
LOCATION:Malá poslucháreň NTÚ LF UK\, Sasinkova 4\, Bratislava\, 81108\, Slovakia (Slovak Republic)
ORGANIZER;CN="Spolok slovensk%C3%BDch lek%C3%A1rov v Bratislave":MAILTO:info@sslba.sk
END:VEVENT
END:VCALENDAR