BEGIN:VCALENDAR
VERSION:2.0
PRODID:-//Spolok slovenských lekárov v Bratislave - ECPv6.15.20//NONSGML v1.0//EN
CALSCALE:GREGORIAN
METHOD:PUBLISH
X-WR-CALNAME:Spolok slovenských lekárov v Bratislave
X-ORIGINAL-URL:https://www.sslba.sk
X-WR-CALDESC:Events for Spolok slovenských lekárov v Bratislave
REFRESH-INTERVAL;VALUE=DURATION:PT1H
X-Robots-Tag:noindex
X-PUBLISHED-TTL:PT1H
BEGIN:VTIMEZONE
TZID:Europe/Helsinki
BEGIN:DAYLIGHT
TZOFFSETFROM:+0200
TZOFFSETTO:+0300
TZNAME:EEST
DTSTART:20230326T010000
END:DAYLIGHT
BEGIN:STANDARD
TZOFFSETFROM:+0300
TZOFFSETTO:+0200
TZNAME:EET
DTSTART:20231029T010000
END:STANDARD
BEGIN:DAYLIGHT
TZOFFSETFROM:+0200
TZOFFSETTO:+0300
TZNAME:EEST
DTSTART:20240331T010000
END:DAYLIGHT
BEGIN:STANDARD
TZOFFSETFROM:+0300
TZOFFSETTO:+0200
TZNAME:EET
DTSTART:20241027T010000
END:STANDARD
BEGIN:DAYLIGHT
TZOFFSETFROM:+0200
TZOFFSETTO:+0300
TZNAME:EEST
DTSTART:20250330T010000
END:DAYLIGHT
BEGIN:STANDARD
TZOFFSETFROM:+0300
TZOFFSETTO:+0200
TZNAME:EET
DTSTART:20251026T010000
END:STANDARD
END:VTIMEZONE
BEGIN:VEVENT
DTSTART;TZID=Europe/Helsinki:20240506T170000
DTEND;TZID=Europe/Helsinki:20240506T170000
DTSTAMP:20260420T135312
CREATED:20240324T214212Z
LAST-MODIFIED:20240324T214212Z
UID:479-1715014800-1715014800@www.sslba.sk
SUMMARY:Večer III. chirurgickej kliniky LFUK a UMB
DESCRIPTION:Predsedajú: doc.MUDr.M.Schnorrer\, CSc. a doc.MUDr.Ľ.Danihel\,PhD. \n\nDanihel Ľ.\, Rajčok M.\, Novisedláková M.\, Schnorrer M.: Aktuálne trendy liečby tumorov colon.\nSchnorrer M.\, Rajčok M.\, Drahokoupilová M.\, Danihel Ľ.: Nové trendy indikačných kritérií multidisciplinárnej terapie karcinómu dolného a stredného rekta\nKoudelková A.\, Gulbišová K.\, Dinková K.: ERAS v kolorektálnej chirurgii – odporúčania a každodenná prax
URL:https://www.sslba.sk/odborny-vecer/vecer-iii-chirurgickej-kliniky-lfuk-a-umb/
LOCATION:Malá poslucháreň NTÚ LF UK\, Sasinkova 4\, Bratislava\, 81108\, Slovakia (Slovak Republic)
ORGANIZER;CN="Spolok slovensk%C3%BDch lek%C3%A1rov v Bratislave":MAILTO:info@sslba.sk
END:VEVENT
BEGIN:VEVENT
DTSTART;TZID=Europe/Helsinki:20240513T170000
DTEND;TZID=Europe/Helsinki:20240513T170000
DTSTAMP:20260420T135312
CREATED:20240324T214311Z
LAST-MODIFIED:20240508T052722Z
UID:481-1715619600-1715619600@www.sslba.sk
SUMMARY:Večer Ústavu farmakológie a klinickej farmakológie LFUK
DESCRIPTION:Predsedá: prof.MUDr. M.Wawruch\,PhD. \n\nTisoňová J.\, Laššanová M.: Aktuálne problémy bezpečnosti liečby statínmi u seniorov\nHudecová K.: Súčasný pohľad na komplexný manažment pacienta so srdcovým zlyhávaním\nRaganová A.: Špecifiká farmakoterapie počas gravidity.
URL:https://www.sslba.sk/odborny-vecer/vecer-ustavu-farmakologie-a-klinickej-farmakologie-lfuk-2/
LOCATION:Malá poslucháreň NTÚ LF UK\, Sasinkova 4\, Bratislava\, 81108\, Slovakia (Slovak Republic)
ORGANIZER;CN="Spolok slovensk%C3%BDch lek%C3%A1rov v Bratislave":MAILTO:info@sslba.sk
END:VEVENT
BEGIN:VEVENT
DTSTART;TZID=Europe/Helsinki:20240520T170000
DTEND;TZID=Europe/Helsinki:20240520T170000
DTSTAMP:20260420T135312
CREATED:20240508T052540Z
LAST-MODIFIED:20240508T052741Z
UID:495-1716224400-1716224400@www.sslba.sk
SUMMARY:Večer Detskej otorinolaryngologickej kliniky LFUK a NÚDCH
DESCRIPTION:Predsedá: MUDr. I. Goljerová\, CSc.\, MPH \n\nJovankovičová A.: Súčasné možnosti riešenia atrézie zvukovodov\nMészároš P.: Súčasné možnosti riešenia atrézie ušnice.\nNiková N.\, Jovankovičová A.\, Goljerová I.: Diagnostické a liečebné postupy pri laryngomalácii.\nPaouris D.\, Banás A.\, Goljerová I.: Sledovanie pediatrických pacientov po inzercii ventilačných trubičiek pre chronickú sekretorickú otitídu.
URL:https://www.sslba.sk/odborny-vecer/vecer-detskej-otorinolaryngologickej-kliniky-lfuk-a-nudch/
LOCATION:Malá poslucháreň NTÚ LF UK\, Sasinkova 4\, Bratislava\, 81108\, Slovakia (Slovak Republic)
ORGANIZER;CN="Spolok slovensk%C3%BDch lek%C3%A1rov v Bratislave":MAILTO:info@sslba.sk
END:VEVENT
BEGIN:VEVENT
DTSTART;TZID=Europe/Helsinki:20240527T170000
DTEND;TZID=Europe/Helsinki:20240527T170000
DTSTAMP:20260420T135312
CREATED:20240324T214437Z
LAST-MODIFIED:20240324T214437Z
UID:485-1716829200-1716829200@www.sslba.sk
SUMMARY:Večer Ústavu epidemiológie LFUK
DESCRIPTION:Predsedá: prof. MUDr.A.Bražinová\, PhD.\,MPH. \n\nNováková D.\, Kotrbancová M.\, Perželová J.\, Široká K.\, Čechová D.: Sledovanie vzťahu medzi psychickou odolnosťou a imunitou v slovenskej populácii\nMračková T.\, Gába P.\, Doležalová K.\, Bražinová A.: Skríning HIV\, syfilisu\, hepatitídy B a C u ukrajinských odídencov na Slovensku\nFulová M.\, Mračková T.\, Chladná Z.: Modelovanie epidémie vírusovej hepatitídy A\nKutáková Ľ.\, Bražinová A.:Epidemiológia najčastejších onkologických ochorení na Slovensku
URL:https://www.sslba.sk/odborny-vecer/vecer-ustavu-epidemiologie-lfuk-2/
LOCATION:Malá poslucháreň NTÚ LF UK\, Sasinkova 4\, Bratislava\, 81108\, Slovakia (Slovak Republic)
ORGANIZER;CN="Spolok slovensk%C3%BDch lek%C3%A1rov v Bratislave":MAILTO:info@sslba.sk
END:VEVENT
END:VCALENDAR