BEGIN:VCALENDAR
VERSION:2.0
PRODID:-//Spolok slovenských lekárov v Bratislave - ECPv6.15.20//NONSGML v1.0//EN
CALSCALE:GREGORIAN
METHOD:PUBLISH
X-ORIGINAL-URL:https://www.sslba.sk
X-WR-CALDESC:Events for Spolok slovenských lekárov v Bratislave
REFRESH-INTERVAL;VALUE=DURATION:PT1H
X-Robots-Tag:noindex
X-PUBLISHED-TTL:PT1H
BEGIN:VTIMEZONE
TZID:Europe/Helsinki
BEGIN:DAYLIGHT
TZOFFSETFROM:+0200
TZOFFSETTO:+0300
TZNAME:EEST
DTSTART:20230326T010000
END:DAYLIGHT
BEGIN:STANDARD
TZOFFSETFROM:+0300
TZOFFSETTO:+0200
TZNAME:EET
DTSTART:20231029T010000
END:STANDARD
BEGIN:DAYLIGHT
TZOFFSETFROM:+0200
TZOFFSETTO:+0300
TZNAME:EEST
DTSTART:20240331T010000
END:DAYLIGHT
BEGIN:STANDARD
TZOFFSETFROM:+0300
TZOFFSETTO:+0200
TZNAME:EET
DTSTART:20241027T010000
END:STANDARD
BEGIN:DAYLIGHT
TZOFFSETFROM:+0200
TZOFFSETTO:+0300
TZNAME:EEST
DTSTART:20250330T010000
END:DAYLIGHT
BEGIN:STANDARD
TZOFFSETFROM:+0300
TZOFFSETTO:+0200
TZNAME:EET
DTSTART:20251026T010000
END:STANDARD
END:VTIMEZONE
BEGIN:VEVENT
DTSTART;TZID=Europe/Helsinki:20241111T170000
DTEND;TZID=Europe/Helsinki:20241111T170000
DTSTAMP:20260420T123355
CREATED:20240729T211308Z
LAST-MODIFIED:20240729T211716Z
UID:514-1731344400-1731344400@www.sslba.sk
SUMMARY:Večer I.internej kliniky LFUK a UNB
DESCRIPTION:Predsedá: doc.MUDr.S.Kiňová\,PhD. \n\nGašpar Ľ.: Prognostický význam variability krvného tlaku a porúch diurnálneho znaku\nOravec S.: Subpopulácie lipoproteínov a ich miesto v diagnostike kardiovaskulárnych a cerebrovaskulárnych ochorení\nČelovská D.: Chronická žilová insuficiencia a kardiometabolické riziko.
URL:https://www.sslba.sk/odborny-vecer/vecer-i-internej-kliniky-lfuk-a-unb-2/
LOCATION:Malá poslucháreň NTÚ LF UK\, Sasinkova 4\, Bratislava\, 81108\, Slovakia (Slovak Republic)
ORGANIZER;CN="Spolok slovensk%C3%BDch lek%C3%A1rov v Bratislave":MAILTO:info@sslba.sk
END:VEVENT
BEGIN:VEVENT
DTSTART;TZID=Europe/Helsinki:20241118T170000
DTEND;TZID=Europe/Helsinki:20241118T170000
DTSTAMP:20260420T123355
CREATED:20240729T211350Z
LAST-MODIFIED:20240729T211405Z
UID:516-1731949200-1731949200@www.sslba.sk
SUMMARY:Večer Dermatovenerologickej kliniky LFUK a UNB
DESCRIPTION:Predsedá: prof. MUDr. M.Šimaljaková\, PhD.\, MHA. \n\nŠimaljaková M.: Hidradenitis suppurativa\nPart M.: Generalizovaná pustulózna psoriáza\nNemšovská J.: SDRIFE – patogenéza\, klinika a liečba.
URL:https://www.sslba.sk/odborny-vecer/vecer-dermatovenerologickej-kliniky-lfuk-a-unb-2/
LOCATION:Malá poslucháreň NTÚ LF UK\, Sasinkova 4\, Bratislava\, 81108\, Slovakia (Slovak Republic)
ORGANIZER;CN="Spolok slovensk%C3%BDch lek%C3%A1rov v Bratislave":MAILTO:info@sslba.sk
END:VEVENT
BEGIN:VEVENT
DTSTART;TZID=Europe/Helsinki:20241125T170000
DTEND;TZID=Europe/Helsinki:20241125T170000
DTSTAMP:20260420T123355
CREATED:20240729T211449Z
LAST-MODIFIED:20240729T211449Z
UID:518-1732554000-1732554000@www.sslba.sk
SUMMARY:Večer Spolku lékařu českých z Prahy
DESCRIPTION:Predsedá: prof. MUDr. O. Viklický\, CSc. \n\nŠtěpánková J.:  Poruchy Ca-P metabolismu u pacientů s CKD\nViklický O.:  Transplantace u senzitizovaných pacientů\nPaříková A.: Aferetické metody v nefrologii 4. Zahrádka I.: Poučení z pandemie covid u pacientů s CKD
URL:https://www.sslba.sk/odborny-vecer/vecer-spolku-lekaru-ceskych-z-prahy/
LOCATION:Malá poslucháreň NTÚ LF UK\, Sasinkova 4\, Bratislava\, 81108\, Slovakia (Slovak Republic)
ORGANIZER;CN="Spolok slovensk%C3%BDch lek%C3%A1rov v Bratislave":MAILTO:info@sslba.sk
END:VEVENT
END:VCALENDAR